BEGIN:VCALENDAR
VERSION:2.0
PRODID:-//Castro and Lowenstein Lab - ECPv6.15.20//NONSGML v1.0//EN
CALSCALE:GREGORIAN
METHOD:PUBLISH
X-WR-CALNAME:Castro and Lowenstein Lab
X-ORIGINAL-URL:https://lowenstein-castrolab.com
X-WR-CALDESC:Events for Castro and Lowenstein Lab
REFRESH-INTERVAL;VALUE=DURATION:PT1H
X-Robots-Tag:noindex
X-PUBLISHED-TTL:PT1H
BEGIN:VTIMEZONE
TZID:UTC
BEGIN:STANDARD
TZOFFSETFROM:+0000
TZOFFSETTO:+0000
TZNAME:UTC
DTSTART:20230101T000000
END:STANDARD
END:VTIMEZONE
BEGIN:VEVENT
DTSTART;TZID=UTC:20241203T080000
DTEND;TZID=UTC:20241203T170000
DTSTAMP:20260419T143939
CREATED:20241021T173101Z
LAST-MODIFIED:20241021T173219Z
UID:929-1733212800-1733245200@lowenstein-castrolab.com
SUMMARY:"Epigenetic reprogramming mechanisms in mutant IDH1 gliomas: Impact on Therapeutics"
DESCRIPTION:Dr. Maria Castro will be presenting at the Barrow Neurological Institute (BNI) Neuroscience Seminar Series.
URL:https://lowenstein-castrolab.com/event/epigenetic-reprogramming-mechanisms-in-mutant-idh1-gliomas-impact-on-therapeutics/
LOCATION:Barrow Neurological Institute\, Phoenix\, AZ\, United States
ATTACH;FMTTYPE=image/jpeg:https://lowenstein-castrolab.com/wp-content/uploads/2024/04/CASTRO_Maria5x7-002.jpg
END:VEVENT
END:VCALENDAR