BEGIN:VCALENDAR
VERSION:2.0
PRODID:-//Castro and Lowenstein Lab - ECPv6.15.20//NONSGML v1.0//EN
CALSCALE:GREGORIAN
METHOD:PUBLISH
X-WR-CALNAME:Castro and Lowenstein Lab
X-ORIGINAL-URL:https://lowenstein-castrolab.com
X-WR-CALDESC:Events for Castro and Lowenstein Lab
REFRESH-INTERVAL;VALUE=DURATION:PT1H
X-Robots-Tag:noindex
X-PUBLISHED-TTL:PT1H
BEGIN:VTIMEZONE
TZID:UTC
BEGIN:STANDARD
TZOFFSETFROM:+0000
TZOFFSETTO:+0000
TZNAME:UTC
DTSTART:20230101T000000
END:STANDARD
END:VTIMEZONE
BEGIN:VEVENT
DTSTART;TZID=UTC:20241217T120000
DTEND;TZID=UTC:20241217T130000
DTSTAMP:20260419T143252
CREATED:20241111T160441Z
LAST-MODIFIED:20241111T160441Z
UID:975-1734436800-1734440400@lowenstein-castrolab.com
SUMMARY:Tisch Cancer Institute Seminar Series With P.R. Lowenstein\, MD\, PhD
DESCRIPTION:Clinical Trials\, Oncostreams\, and Liquid Crystals: New Views on Glioblastoma Structure and Treatment \nP.R. Lowenstein\, MD\, PhD\nRichard Shneider Collegiate Professor Professor\nDept. of Neurosurgery Professor\nDept. of Cell and Developmental Biology Professor\nDept. of Biomedical Engineering (Affiliate)\nMSRB II\, Room 4570\nDepartment of Neurosurgery University of Michigan School of Medicine \nHosted by: Oren Becher\, MD
URL:https://lowenstein-castrolab.com/event/tisch-cancer-institute-seminar-series-with-p-r-lowenstein-md-phd/
LOCATION:Tich Cancer Institute\, 1470 Madison Ave\, New York\, 10029\, United States
ATTACH;FMTTYPE=image/jpeg:https://lowenstein-castrolab.com/wp-content/uploads/2024/04/Pedro-headshot-002-002.jpg
END:VEVENT
END:VCALENDAR