BEGIN:VCALENDAR
VERSION:2.0
PRODID:-//Castro and Lowenstein Lab - ECPv6.15.20//NONSGML v1.0//EN
CALSCALE:GREGORIAN
METHOD:PUBLISH
X-WR-CALNAME:Castro and Lowenstein Lab
X-ORIGINAL-URL:https://lowenstein-castrolab.com
X-WR-CALDESC:Events for Castro and Lowenstein Lab
REFRESH-INTERVAL;VALUE=DURATION:PT1H
X-Robots-Tag:noindex
X-PUBLISHED-TTL:PT1H
BEGIN:VTIMEZONE
TZID:UTC
BEGIN:STANDARD
TZOFFSETFROM:+0000
TZOFFSETTO:+0000
TZNAME:UTC
DTSTART:20240101T000000
END:STANDARD
END:VTIMEZONE
BEGIN:VEVENT
DTSTART;VALUE=DATE:20251119
DTEND;VALUE=DATE:20251124
DTSTAMP:20260422T061424
CREATED:20241219T195325Z
LAST-MODIFIED:20241219T195325Z
UID:998-1763510400-1763942399@lowenstein-castrolab.com
SUMMARY:Society for Neuro-Oncology (SNO) Annual Meeting 2025
DESCRIPTION:
URL:https://lowenstein-castrolab.com/event/society-for-neuro-oncology-sno-annual-meeting-2025/
LOCATION:Honolulu\, HI
ATTACH;FMTTYPE=image/png:https://lowenstein-castrolab.com/wp-content/uploads/2024/12/logo.png
END:VEVENT
END:VCALENDAR