BEGIN:VCALENDAR
VERSION:2.0
PRODID:-//Castro and Lowenstein Lab - ECPv6.15.20//NONSGML v1.0//EN
CALSCALE:GREGORIAN
METHOD:PUBLISH
X-ORIGINAL-URL:https://lowenstein-castrolab.com
X-WR-CALDESC:Events for Castro and Lowenstein Lab
REFRESH-INTERVAL;VALUE=DURATION:PT1H
X-Robots-Tag:noindex
X-PUBLISHED-TTL:PT1H
BEGIN:VTIMEZONE
TZID:UTC
BEGIN:STANDARD
TZOFFSETFROM:+0000
TZOFFSETTO:+0000
TZNAME:UTC
DTSTART:20250101T000000
END:STANDARD
END:VTIMEZONE
BEGIN:VEVENT
DTSTART;TZID=UTC:20260225T080000
DTEND;TZID=UTC:20260227T170000
DTSTAMP:20260422T111759
CREATED:20251210T122105Z
LAST-MODIFIED:20251210T122231Z
UID:1187-1772006400-1772211600@lowenstein-castrolab.com
SUMMARY:TRCCC 28th Annual Meeting
DESCRIPTION:Co-Organizers:  \n\n\n\n\n\nAlex Huang\, MD\, PhD \n\n\n\n\n\nJ. Joseph Melenhorst\, PhD \n\n\nTheme: Forging Ahead in the Era of Immunotherapy \n\n\nHost Institute: Case Comprehensive Cancer Center \n\n\n\n\n  \nRegister here \nAbstract Submission \nHotel Reservations \nDetailed Agenda \n  \n 
URL:https://lowenstein-castrolab.com/event/trccc-28th-annual-meeting/
LOCATION:Seven Springs Mountain Resort\, Champion\, PA
ATTACH;FMTTYPE=image/jpeg:https://lowenstein-castrolab.com/wp-content/uploads/2025/12/download-1.jpg
END:VEVENT
END:VCALENDAR