BEGIN:VCALENDAR
VERSION:2.0
PRODID:-//Castro and Lowenstein Lab - ECPv6.15.20//NONSGML v1.0//EN
CALSCALE:GREGORIAN
METHOD:PUBLISH
X-ORIGINAL-URL:https://lowenstein-castrolab.com
X-WR-CALDESC:Events for Castro and Lowenstein Lab
REFRESH-INTERVAL;VALUE=DURATION:PT1H
X-Robots-Tag:noindex
X-PUBLISHED-TTL:PT1H
BEGIN:VTIMEZONE
TZID:UTC
BEGIN:STANDARD
TZOFFSETFROM:+0000
TZOFFSETTO:+0000
TZNAME:UTC
DTSTART:20240101T000000
END:STANDARD
END:VTIMEZONE
BEGIN:VEVENT
DTSTART;TZID=UTC:20250822T080000
DTEND;TZID=UTC:20250822T170000
DTSTAMP:20260422T001941
CREATED:20250207T175411Z
LAST-MODIFIED:20250207T175411Z
UID:1055-1755849600-1755882000@lowenstein-castrolab.com
SUMMARY:Dr. Maria Castro Speaking at University of Georgia (UGA) Department of Biochemistry and Molecular Biology Seminar Series
DESCRIPTION:Dr. Maria Castro will be speaking on Genomic Instability and STING pathway activation in Diffuse Hemispheric Gliomas (DHG).
URL:https://lowenstein-castrolab.com/event/dr-maria-castro-speaking-at-university-of-georgia-uga-department-of-biochemistry-and-molecular-biology-seminar-series/
LOCATION:University of Georgia
ATTACH;FMTTYPE=image/jpeg:https://lowenstein-castrolab.com/wp-content/uploads/2024/04/CASTRO_Maria5x7-002.jpg
END:VEVENT
END:VCALENDAR