BEGIN:VCALENDAR
VERSION:2.0
PRODID:-//Castro and Lowenstein Lab - ECPv6.15.20//NONSGML v1.0//EN
CALSCALE:GREGORIAN
METHOD:PUBLISH
X-ORIGINAL-URL:https://lowenstein-castrolab.com
X-WR-CALDESC:Events for Castro and Lowenstein Lab
REFRESH-INTERVAL;VALUE=DURATION:PT1H
X-Robots-Tag:noindex
X-PUBLISHED-TTL:PT1H
BEGIN:VTIMEZONE
TZID:UTC
BEGIN:STANDARD
TZOFFSETFROM:+0000
TZOFFSETTO:+0000
TZNAME:UTC
DTSTART:20240101T000000
END:STANDARD
END:VTIMEZONE
BEGIN:VEVENT
DTSTART;TZID=UTC:20250912T080000
DTEND;TZID=UTC:20250914T170000
DTSTAMP:20260422T014841
CREATED:20250207T175948Z
LAST-MODIFIED:20250207T175948Z
UID:1058-1757664000-1757869200@lowenstein-castrolab.com
SUMMARY:American Brain Tumor Assocation (ABTA) National Conference
DESCRIPTION:The nation’s largest patient-focused brain tumor conference is returning this fall and we hope to see you! Save the date for the ABTA 2025 National Conference\, September 12-14 in Chicago and online. \n\nLearn about the latest treatment advances from leading experts \n\n\nEngage in wellness workshops and breakout sessions \n\n\nConnect with patients\, caregivers and healthcare providers \n\nJoin us for a full weekend of enriching programs presented by nationally recognized experts. \nRegister Here
URL:https://lowenstein-castrolab.com/event/american-brain-tumor-assocation-abta-national-conference/
LOCATION:Renaissance Schaumburg Covention Center Hotel\, Schaumburg\, IL
ATTACH;FMTTYPE=image/jpeg:https://lowenstein-castrolab.com/wp-content/uploads/2025/02/download.jpg
END:VEVENT
BEGIN:VEVENT
DTSTART;TZID=UTC:20250917T080000
DTEND;TZID=UTC:20250919T170000
DTSTAMP:20260422T014841
CREATED:20250417T154931Z
LAST-MODIFIED:20250417T154931Z
UID:1109-1758096000-1758301200@lowenstein-castrolab.com
SUMMARY:Tel Aviv University’s 20th Cancer Biology Research Center Biennial Meeting
DESCRIPTION:The 20th Biennial Cancer Biology Research Center Meeting\n\nSave the Date:\n  \n17-19 September 2025\n  \nDavid’s Harp Galilee Resort\n  \nEvent details and program will be published soon
URL:https://lowenstein-castrolab.com/event/tel-aviv-universitys-20th-cancer-biology-research-center-biennial-meeting/
LOCATION:David’s Harp Galilee Resort\, Oved Ben Ami Blvd\, 41\, Netanya\, Israel
ATTACH;FMTTYPE=image/jpeg:https://lowenstein-castrolab.com/wp-content/uploads/2025/04/Tel-Aviv-e1744904962433.jpg
END:VEVENT
BEGIN:VEVENT
DTSTART;TZID=UTC:20250917T080000
DTEND;TZID=UTC:20250919T170000
DTSTAMP:20260422T014841
CREATED:20250417T155457Z
LAST-MODIFIED:20250428T170425Z
UID:1113-1758096000-1758301200@lowenstein-castrolab.com
SUMMARY:KEYNOTE SPEAKER-Dr. Maria Castro Speaking at Tel Aviv University’s 20th Cancer Biology Research Center Biennial Meeting
DESCRIPTION:Dr. Maria Castro will be a Keynote speaker at the conference. Dr. Castro will be speaking on “Epigenetic reprogramming in adult and pediatric gliomas leads to enhanced response to immune-mediated therapies.”
URL:https://lowenstein-castrolab.com/event/dr-maria-castro-speaking-at-tel-aviv-universitys-20th-cancer-biology-research-center-biennial-meeting/
LOCATION:David’s Harp Galilee Resort\, Israel
ATTACH;FMTTYPE=image/jpeg:https://lowenstein-castrolab.com/wp-content/uploads/2022/12/SchneiderPrfshp14081-scaled.jpg
END:VEVENT
END:VCALENDAR